BEGIN:VCALENDAR
VERSION:2.0
PRODID:-//InvisionCommunity Events 5.0.15//EN
METHOD:PUBLISH
CALSCALE:GREGORIAN
REFRESH-INTERVAL:PT15M
X-PUBLISHED-TTL:PT15M
X-WR-CALNAME:calendar_calendar_1
NAME:calendar_calendar_1
BEGIN:VTIMEZONE
TZID:Europe/London
TZURL:https://tzurl.org/zoneinfo/Europe/London
X-LIC-LOCATION:Europe/London
BEGIN:DAYLIGHT
TZOFFSETFROM:+0000
TZOFFSETTO:+0100
TZNAME:BST
DTSTART:20260329T020000Z
RRULE:FREQ=YEARLY;BYMONTH=3;BYDAY=-1SU
END:DAYLIGHT
BEGIN:STANDARD
TZOFFSETFROM:+0100
TZOFFSETTO:+0000
TZNAME:GMT
DTSTART:20261025T020000Z
RRULE:FREQ=YEARLY;BYMONTH=10;BYDAY=-1SU
END:STANDARD
END:VTIMEZONE
BEGIN:VTIMEZONE
TZID:Europe/London
TZURL:https://tzurl.org/zoneinfo/Europe/London
X-LIC-LOCATION:Europe/London
BEGIN:DAYLIGHT
TZOFFSETFROM:+0000
TZOFFSETTO:+0100
TZNAME:BST
DTSTART:20250330T020000Z
RRULE:FREQ=YEARLY;BYMONTH=3;BYDAY=-1SU
END:DAYLIGHT
BEGIN:STANDARD
TZOFFSETFROM:+0100
TZOFFSETTO:+0000
TZNAME:GMT
DTSTART:20251026T020000Z
RRULE:FREQ=YEARLY;BYMONTH=10;BYDAY=-1SU
END:STANDARD
END:VTIMEZONE
BEGIN:VEVENT
SUMMARY:ДР (Эльвира Аларис)
DTSTAMP:20260115T112620Z
SEQUENCE:0
UID:26-1-d2b568e29e926eb35a7a62b9ebab0b25@test.bestgothic.top
ORGANIZER;CN="Ozzy":admin@bestgothic.top
DESCRIPTION:День Рождения Эльвира Аларис
DTSTART;VALUE=DATE:20260125
RRULE:FREQ=YEARLY;INTERVAL=1;COUNT=5
END:VEVENT
BEGIN:VEVENT
SUMMARY:ДР (ILyouHA)
DTSTAMP:20260122T122627Z
SEQUENCE:0
UID:30-1-d2b568e29e926eb35a7a62b9ebab0b25@test.bestgothic.top
ORGANIZER;CN="Zuboskal":admin@bestgothic.top
DESCRIPTION:День Рождения ILyouHA
DTSTART;VALUE=DATE:20260122
RRULE:FREQ=YEARLY;INTERVAL=1;COUNT=5
END:VEVENT
BEGIN:VEVENT
SUMMARY:Памяти Half-Orc
DTSTAMP:20260118T180529Z
SEQUENCE:0
UID:29-1-d2b568e29e926eb35a7a62b9ebab0b25@test.bestgothic.top
ORGANIZER;CN="Сир Канегем":admin@bestgothic.top
DESCRIPTION:В этот день в 2017 году умер Half-Orc
DTSTART;VALUE=DATE:20260224
RRULE:FREQ=YEARLY;INTERVAL=1;COUNT=5
END:VEVENT
BEGIN:VEVENT
SUMMARY:ДР (Сир Канегем)
DTSTAMP:20251201T162034Z
SEQUENCE:0
UID:15-1-d2b568e29e926eb35a7a62b9ebab0b25@test.bestgothic.top
ORGANIZER;CN="Сир Канегем":admin@bestgothic.top
DESCRIPTION:День Рождения Сир Канегем
DTSTART;VALUE=DATE:20251103
RRULE:FREQ=YEARLY;INTERVAL=1;COUNT=5
END:VEVENT
BEGIN:VEVENT
SUMMARY:ДР (Zuboskal)
DTSTAMP:20260117T231803Z
SEQUENCE:0
UID:27-1-d2b568e29e926eb35a7a62b9ebab0b25@test.bestgothic.top
ORGANIZER;CN="Бладвин":admin@bestgothic.top
DESCRIPTION:ZuboskalЛагерь: ТитаныЗвание:
	 Soul ReaverДата праздника: 10 июн.Зарегис
	трирован: 27 января\, 2013.
DTSTART;VALUE=DATE:20260610
RRULE:FREQ=YEARLY;INTERVAL=1;COUNT=5
END:VEVENT
BEGIN:VEVENT
SUMMARY:ДР (Бладвин)
DTSTAMP:20260117T232340Z
SEQUENCE:0
UID:28-1-d2b568e29e926eb35a7a62b9ebab0b25@test.bestgothic.top
ORGANIZER;CN="Бладвин":admin@bestgothic.top
DESCRIPTION:БладвинЛаг
	ерь: НаёмникиЗва
	ние: Мастер МечаДата пра
	здника: 4 июл.Зарегистрирован: 17 октября\,
	 2016.
DTSTART;VALUE=DATE:20260704
RRULE:FREQ=YEARLY;INTERVAL=1;COUNT=5
END:VEVENT
BEGIN:VEVENT
SUMMARY:ДР (Буллит)
DTSTAMP:20251130T184858Z
SEQUENCE:0
UID:14-1-d2b568e29e926eb35a7a62b9ebab0b25@test.bestgothic.top
ORGANIZER;CN="Буллит":admin@bestgothic.top
DESCRIPTION:День Рождения Буллит
DTSTART;VALUE=DATE:20260220
RRULE:FREQ=YEARLY;INTERVAL=1;COUNT=5
END:VEVENT
BEGIN:VEVENT
SUMMARY:ДР (Сантьяга)
DTSTAMP:20260110T232318Z
SEQUENCE:0
UID:23-1-d2b568e29e926eb35a7a62b9ebab0b25@test.bestgothic.top
ORGANIZER;CN="Хиран":admin@bestgothic.top
DESCRIPTION:День рождения Сантьяга
DTSTART;VALUE=DATE:20261007
RRULE:FREQ=YEARLY;INTERVAL=1;COUNT=5
END:VEVENT
BEGIN:VEVENT
SUMMARY:ДР (Алекс Верн)
DTSTAMP:20260110T233108Z
SEQUENCE:0
UID:25-1-d2b568e29e926eb35a7a62b9ebab0b25@test.bestgothic.top
ORGANIZER;CN="Хиран":admin@bestgothic.top
DESCRIPTION:День рождения Алекс Верн
DTSTART;VALUE=DATE:20261104
RRULE:FREQ=YEARLY;INTERVAL=1;COUNT=5
END:VEVENT
BEGIN:VEVENT
SUMMARY:ДР (Grommash Hellscream)
DTSTAMP:20251111T232417Z
SEQUENCE:0
UID:12-1-d2b568e29e926eb35a7a62b9ebab0b25@test.bestgothic.top
ORGANIZER;CN="Zuboskal":admin@bestgothic.top
DESCRIPTION:День Рождения Grommash Hellscream
DTSTART;VALUE=DATE:20251110
RRULE:FREQ=YEARLY;INTERVAL=1;COUNT=5
END:VEVENT
BEGIN:VEVENT
SUMMARY:ДР (Simple)
DTSTAMP:20260109T211740Z
SEQUENCE:0
UID:22-1-d2b568e29e926eb35a7a62b9ebab0b25@test.bestgothic.top
ORGANIZER;CN="Ozzy":admin@bestgothic.top
DESCRIPTION:День Рождения Simple
DTSTART;VALUE=DATE:20260121
RRULE:FREQ=YEARLY;INTERVAL=1;COUNT=5
END:VEVENT
BEGIN:VEVENT
SUMMARY:ДР (Huntsman)
DTSTAMP:20260109T183338Z
SEQUENCE:0
UID:21-1-d2b568e29e926eb35a7a62b9ebab0b25@test.bestgothic.top
ORGANIZER;CN="Ozzy":admin@bestgothic.top
DESCRIPTION:День Рождения Huntsman
DTSTART;VALUE=DATE:20260120
RRULE:FREQ=YEARLY;INTERVAL=1;COUNT=5
END:VEVENT
BEGIN:VEVENT
SUMMARY:ДР (Mishka)
DTSTAMP:20260108T231822Z
SEQUENCE:0
UID:20-1-d2b568e29e926eb35a7a62b9ebab0b25@test.bestgothic.top
ORGANIZER;CN="Zuboskal":admin@bestgothic.top
DESCRIPTION:День Рождения Mishka
DTSTART;VALUE=DATE:20260109
RRULE:FREQ=YEARLY;INTERVAL=1;COUNT=5
END:VEVENT
BEGIN:VEVENT
SUMMARY:ДР (Warrior616)
DTSTAMP:20260108T215106Z
SEQUENCE:0
UID:19-1-d2b568e29e926eb35a7a62b9ebab0b25@test.bestgothic.top
ORGANIZER;CN="Zuboskal":admin@bestgothic.top
DESCRIPTION:День Рождения Warrior616
DTSTART;VALUE=DATE:20260109
RRULE:FREQ=YEARLY;INTERVAL=1;COUNT=5
END:VEVENT
BEGIN:VEVENT
SUMMARY:Новый Год
DTSTAMP:20251231T110556Z
SEQUENCE:0
UID:18-1-d2b568e29e926eb35a7a62b9ebab0b25@test.bestgothic.top
ORGANIZER;CN="Zuboskal":admin@bestgothic.top
DESCRIPTION:Новый Год 2026
DTSTART;VALUE=DATE:20251231
DTEND;VALUE=DATE:20260103
RRULE:FREQ=YEARLY;INTERVAL=1;COUNT=5
END:VEVENT
BEGIN:VEVENT
SUMMARY:ДР (Clark Kent)
DTSTAMP:20251224T182520Z
SEQUENCE:0
UID:17-1-d2b568e29e926eb35a7a62b9ebab0b25@test.bestgothic.top
ORGANIZER;CN="Zuboskal":admin@bestgothic.top
DESCRIPTION:День Рождения Clark Kent
DTSTART;VALUE=DATE:20251223
RRULE:FREQ=YEARLY;INTERVAL=1;COUNT=5
END:VEVENT
BEGIN:VEVENT
SUMMARY:ДР (УЛЬТРАЖОРА)
DTSTAMP:20251201T162207Z
SEQUENCE:0
UID:16-1-d2b568e29e926eb35a7a62b9ebab0b25@test.bestgothic.top
ORGANIZER;CN="Сир Канегем":admin@bestgothic.top
DESCRIPTION:День Рождения УЛЬТРАЖОРА
DTSTART;VALUE=DATE:20251201
RRULE:FREQ=YEARLY;INTERVAL=1;COUNT=5
END:VEVENT
BEGIN:VEVENT
SUMMARY:Др (Скорпио)
DTSTAMP:20251128T183256Z
SEQUENCE:0
UID:13-1-d2b568e29e926eb35a7a62b9ebab0b25@test.bestgothic.top
ORGANIZER;CN="Zuboskal":admin@bestgothic.top
DESCRIPTION:ДР Скорпио.
DTSTART;VALUE=DATE:20251128
RRULE:FREQ=YEARLY;INTERVAL=1;COUNT=5
END:VEVENT
BEGIN:VEVENT
SUMMARY:Памяти Умпута
DTSTAMP:20250626T222849Z
SEQUENCE:1
UID:9-1-d2b568e29e926eb35a7a62b9ebab0b25@test.bestgothic.top
ORGANIZER;CN="Zuboskal":admin@bestgothic.top
DESCRIPTION:Памяти Умпута.
DTSTART;VALUE=DATE:20250625
RRULE:FREQ=YEARLY;INTERVAL=1;COUNT=5
END:VEVENT
END:VCALENDAR
